BEGIN:VCALENDAR
VERSION:2.0
PRODID:-//ChamberMaster//Event Calendar 2.0//EN
METHOD:PUBLISH
X-PUBLISHED-TTL:P3D
REFRESH-INTERVAL:P3D
CALSCALE:GREGORIAN
BEGIN:VEVENT
DTSTART:20140725T003000Z
DTEND:20140725T023000Z
X-MICROSOFT-CDO-ALLDAYEVENT:FALSE
SUMMARY:Afterhours 2014.07 at ArtsWest
DESCRIPTION:Come join us at ArtsWest on July 24th from 5:30   7:30pm for a nibble\, a glass of wine and to experience all that goes on behind our glass doors!  \n\nWander through our Art Gallery\, featuring "Animals\," our summer exhibition.  Also enjoy a private "behind the scenes" guided tour into our theatre\, backstage\, costume shop and more!  Hosted gallery tours and behind the scenes tours will be available on a casual basis as you enjoy your companionship through ArtsWest.  \n\nArtsWest Playhouse and Gallery is a 149 seat thrust theatre and gallery space located at 4711 California Ave SW.  At its core\, ArtsWest's mission is to produce artistic events so compelling that they require conversation\, improve the imagination\, and promote cultural vibrancy as a core value for the communities of Seattle.\n\nThis Chamber After Hours event is co-hosted by:\n\nJim Guenther\, Guenther Consulting\n\nDawn Leverett\, Windermere Real Estate
X-ALT-DESC;FMTTYPE=text/html:<p><span lang="EN" style="color: black\; font-family: &quot\;Arial&quot\;\,&quot\;sans-serif&quot\;\; mso-ansi-language: EN\;"><font size="3">Come join us at ArtsWest on July </font></span><span lang="EN" style="color: black\; font-family: &quot\;Arial&quot\;\,&quot\;sans-serif&quot\;\; mso-ansi-language: EN\;"><font size="3">2</font></span><span lang="EN" style="color: rgb(31\, 73\, 125)\; font-family: &quot\;Arial&quot\;\,&quot\;sans-serif&quot\;\; mso-ansi-language: EN\; mso-themecolor: dark2\;"><font size="3">4</font></span><sup><span lang="EN" style="color: black\; font-family: &quot\;Arial&quot\;\,&quot\;sans-serif&quot\;\; mso-ansi-language: EN\;"><font size="2">th</font></span></sup><font size="3"><span lang="EN" style="color: black\; font-family: &quot\;Arial&quot\;\,&quot\;sans-serif&quot\;\; mso-ansi-language: EN\;"> from 5:30 &ndash\; 7:30pm for a nibble\, a glass of wine and to experience all that goes on behind our glass doors!&nbsp\; </span><span lang="EN" style="color: rgb(51\, 51\, 51)\; font-family: &quot\;Arial&quot\;\,&quot\;sans-serif&quot\;\; font-size: 10pt\; mso-ansi-language: EN\;"><o:p></o:p></span></font></p>\n\n<p><font size="3"><span lang="EN" style="color: black\; font-family: &quot\;Arial&quot\;\,&quot\;sans-serif&quot\;\; mso-ansi-language: EN\;">Wander through our Art Gallery\, featuring &ldquo\;Animals\,&rdquo\; our summer exhibition.&nbsp\; Also enjoy a private &ldquo\;behind the scenes&rdquo\; guided tour into our theatre\, backstage\, costume shop and more!&nbsp\; Hosted gallery tours and behind the scenes tours will be available on a casual basis as you enjoy your companionship through ArtsWest.&nbsp\; </span><span lang="EN" style="color: rgb(51\, 51\, 51)\; font-family: &quot\;Arial&quot\;\,&quot\;sans-serif&quot\;\; font-size: 10pt\; mso-ansi-language: EN\;"><o:p></o:p></span></font></p>\n\n<p><font size="3"><span lang="EN" style="color: black\; font-family: &quot\;Arial&quot\;\,&quot\;sans-serif&quot\;\; mso-ansi-language: EN\;">ArtsWest Playhouse and Gallery is a 149 seat thrust theatre and gallery space located at 4711 California Ave SW.&nbsp\; At its core\, ArtsWest&rsquo\;s mission is to produce artistic events so compelling that they require conversation\, improve the imagination\, and promote cultural vibrancy as a core value for the communities of Seattle.</span><span lang="EN" style="color: rgb(51\, 51\, 51)\; font-family: &quot\;Arial&quot\;\,&quot\;sans-serif&quot\;\; font-size: 10pt\; mso-ansi-language: EN\;"><o:p></o:p></span></font></p>\n\n<p><em><u><span lang="EN" style="color: black\; font-family: &quot\;Arial&quot\;\,&quot\;sans-serif&quot\;\; font-size: 10.5pt\; mso-ansi-language: EN\;">This Chamber After Hours event is co-hosted by:</span></u></em><br />\n<em><span lang="EN" style="color: black\; font-family: &quot\;Arial&quot\;\,&quot\;sans-serif&quot\;\; font-size: 10.5pt\; mso-ansi-language: EN\;">Jim Guenther\, Guenther Consulting</span></em><br />\n<i><span lang="EN" style="color: black\; font-family: &quot\;Arial&quot\;\,&quot\;sans-serif&quot\;\; font-size: 10.5pt\; mso-ansi-language: EN\;"><em><span style="font-family: &quot\;Arial&quot\;\,&quot\;sans-serif&quot\;\;">Dawn Leverett\, Windermere Real Estate</span></em></span></i><span lang="EN" style="color: rgb(51\, 51\, 51)\; font-family: &quot\;Arial&quot\;\,&quot\;sans-serif&quot\;\; font-size: 10pt\; mso-ansi-language: EN\;"><o:p></o:p></span></p>\n
LOCATION:ArtsWest 4711 California Ave SW Seattle\, WA 98116 (206) 938-0339
UID:e.1229.1031
SEQUENCE:3
DTSTAMP:20260424T083850Z
URL:https://westseattle.wschamber.com/events/details/afterhours-2014-07-at-artswest-07-24-2014-1031
END:VEVENT

END:VCALENDAR
