BEGIN:VCALENDAR
VERSION:2.0
PRODID:-//ChamberMaster//Event Calendar 2.0//EN
METHOD:PUBLISH
X-PUBLISHED-TTL:P3D
REFRESH-INTERVAL:P3D
CALSCALE:GREGORIAN
BEGIN:VEVENT
DTSTART:20250214T033000Z
DTEND:20250214T060000Z
X-MICROSOFT-CDO-ALLDAYEVENT:FALSE
SUMMARY:Alternative Valentine's at the Lumberyard Bar - a benefit for West Seattle Food Bank
DESCRIPTION:Come see punk band No More Death Stars in an Alternative Valentine's show at The Lumber Yard Bar in White Center\, benefiting the West Seattle Food Bank!\n\nThursday\, February 13th\, doors at 7:30/show at 8:00. With happy hour specials\, signature cocktail\, and door prizes. Get tickets here: tinyurl.com/su622wed\n\nAll ticket sales\, raffles and signature cocktail proceeds go directly to support WSFB programs to end hunger and homelessness.
X-ALT-DESC;FMTTYPE=text/html:<p><span style="color:rgb(8\, 8\, 9)\; font-family:segoe ui historic\,segoe ui\,helvetica\,arial\,sans-serif\; font-size:15px">Come see punk band </span><span style="color:rgb(8\, 8\, 9)\; font-family:segoe ui historic\,segoe ui\,helvetica\,arial\,sans-serif\; font-size:15px"><a class="x1i10hfl xjbqb8w x1ejq31n xd10rxx x1sy0etr x17r0tee x972fbf xcfux6l x1qhh985 xm0m39n x9f619 x1ypdohk xt0psk2 xe8uvvx xdj266r x11i5rnm xat24cr x1mh8g0r xexx8yu x4uap5 x18d9i69 xkhd6sd x16tdsg8 x1hl2dhg xggy1nq x1a2a7pz x1sur9pj xkrqix3 x1fey0fg x1s688f" href="https://www.facebook.com/nomoredeathstars?__cft__[0]=AZWsKjTYeDEWv9a9AzbxfwHBdUzMOGaEmexFVOYfaUI-b4uW43we4mjm50T0tnOpJEZJ3fueVjmHIzITWqI4HCBuJ_F9GFgr-ZiJVdgZvrQvbU61sWTDXlbO9db_N3GT7Mh7EjAE-ABktaE7dBo34xN2bhPXHpW20kItB4IkGfzMAg2__PHc1euCDyQA323IT7k&amp\;__tn__=-]K-R" style="color: var(--blue-link)\; cursor: pointer\; text-decoration-line: none\; list-style: none\; margin: 0px\; text-align: inherit\; border-style: none\; padding: 0px\; box-sizing: border-box\; border-width: 0px\; outline: none\; -webkit-tap-highlight-color: transparent\; font-weight: 600\; touch-action: manipulation\; background-color: transparent\; display: inline\; font-family: inherit\;" tabindex="0"><span style="font-family:inherit">No More Death Stars</span></a></span><span style="color:rgb(8\, 8\, 9)\; font-family:segoe ui historic\,segoe ui\,helvetica\,arial\,sans-serif\; font-size:15px"> in an Alternative Valentine&#39\;s show at </span><span style="color:rgb(8\, 8\, 9)\; font-family:segoe ui historic\,segoe ui\,helvetica\,arial\,sans-serif\; font-size:15px"><a class="x1i10hfl xjbqb8w x1ejq31n xd10rxx x1sy0etr x17r0tee x972fbf xcfux6l x1qhh985 xm0m39n x9f619 x1ypdohk xt0psk2 xe8uvvx xdj266r x11i5rnm xat24cr x1mh8g0r xexx8yu x4uap5 x18d9i69 xkhd6sd x16tdsg8 x1hl2dhg xggy1nq x1a2a7pz x1sur9pj xkrqix3 x1fey0fg x1s688f" href="https://www.facebook.com/profile.php?id=100041702934338&amp\;__cft__[0]=AZWsKjTYeDEWv9a9AzbxfwHBdUzMOGaEmexFVOYfaUI-b4uW43we4mjm50T0tnOpJEZJ3fueVjmHIzITWqI4HCBuJ_F9GFgr-ZiJVdgZvrQvbU61sWTDXlbO9db_N3GT7Mh7EjAE-ABktaE7dBo34xN2bhPXHpW20kItB4IkGfzMAg2__PHc1euCDyQA323IT7k&amp\;__tn__=-]K-R" style="color: var(--blue-link)\; cursor: pointer\; text-decoration-line: none\; list-style: none\; margin: 0px\; text-align: inherit\; border-style: none\; padding: 0px\; box-sizing: border-box\; border-width: 0px\; outline: none\; -webkit-tap-highlight-color: transparent\; font-weight: 600\; touch-action: manipulation\; background-color: transparent\; display: inline\; font-family: inherit\;" tabindex="0"><span style="font-family:inherit">The Lumber Yard Bar</span></a></span><span style="color:rgb(8\, 8\, 9)\; font-family:segoe ui historic\,segoe ui\,helvetica\,arial\,sans-serif\; font-size:15px"> in White Center\, benefiting the <strong>West Seattle Food Bank</strong>!</span></p>\n\n<p><span style="color:rgb(8\, 8\, 9)\; font-family:segoe ui historic\,segoe ui\,helvetica\,arial\,sans-serif\; font-size:15px">Thursday\, February 13th\, doors at 7:30/show at 8:00. With happy hour specials\, signature cocktail\, and </span><span style="color:rgb(8\, 8\, 9)\; font-family:segoe ui historic\,segoe ui\,helvetica\,arial\,sans-serif\; font-size:15px">door prizes. Get tickets here: </span><span style="color:rgb(8\, 8\, 9)\; font-family:segoe ui historic\,segoe ui\,helvetica\,arial\,sans-serif\; font-size:15px"><a class="x1i10hfl xjbqb8w x1ejq31n xd10rxx x1sy0etr x17r0tee x972fbf xcfux6l x1qhh985 xm0m39n x9f619 x1ypdohk xt0psk2 xe8uvvx xdj266r x11i5rnm xat24cr x1mh8g0r xexx8yu x4uap5 x18d9i69 xkhd6sd x16tdsg8 x1hl2dhg xggy1nq x1a2a7pz x1sur9pj xkrqix3 x1fey0fg x1s688f" href="https://tinyurl.com/su622wed?fbclid=IwZXh0bgNhZW0CMTAAAR31ClLqCILm-SiXQSeLsM0QwtWDItmB0FD7Mhpq3BLKLb0JUsJ7v0BnJlg_aem_PaVgb_uK2FQRwdrxhicjoA" rel="nofollow noreferrer" style="color: var(--blue-link)\; cursor: pointer\; text-decoration-line: none\; list-style: none\; margin: 0px\; text-align: inherit\; border-style: none\; padding: 0px\; box-sizing: border-box\; border-width: 0px\; outline: none\; -webkit-tap-highlight-color: transparent\; font-weight: 600\; touch-action: manipulation\; background-color: transparent\; display: inline\; font-family: inherit\;" tabindex="0" target="_blank">tinyurl.com/su622wed</a></span></p>\n\n<p><span style="color:rgb(8\, 8\, 9)\; font-family:segoe ui historic\,segoe ui\,helvetica\,arial\,sans-serif\; font-size:15px">All ticket sales\, raffles and signature cocktail proceeds go directly to support WSFB programs to end hunger and homelessness.</span></p>\n
LOCATION:9630 16th Ave SW Seattle\, WA
UID:e.1229.12324
SEQUENCE:3
DTSTAMP:20260421T205831Z
URL:https://westseattle.wschamber.com/events/details/alternative-valentine-s-at-the-lumberyard-bar-a-benefit-for-west-seattle-food-bank-12324
END:VEVENT

END:VCALENDAR
