BEGIN:VCALENDAR
VERSION:2.0
PRODID:-//ChamberMaster//Event Calendar 2.0//EN
METHOD:PUBLISH
X-PUBLISHED-TTL:P3D
REFRESH-INTERVAL:P3D
CALSCALE:GREGORIAN
BEGIN:VEVENT
DTSTART:20250223T183000Z
DTEND:20250223T200000Z
X-MICROSOFT-CDO-ALLDAYEVENT:FALSE
SUMMARY:(Any Grief) Grief Circle with Listening to Grief
DESCRIPTION:Listening to Grief hosts a monthly grief circle where we talk about all the things we're collectively grieving and the personal grief we all carry. You'll find community and a brave space to share your grief and worries.\n\n\nAny type of grief is welcome\, from major life transitions\, to pet loss\, to grieving the climate crisis or current political circumstances. Anticipatory grief\, both for loved ones and for ourselves and planet\, is also welcome. The doors are open to everyone feeling grief in these troubling times.\n\n\nPlease register and learn more at https://www.listeningtogrief.com/events/grief-circle \n\n \n\nUse code WSCHAMBER to receive $6 off your first circle.
X-ALT-DESC;FMTTYPE=text/html:<div><a href="http://listeningtogrief.com/" style="color: rgb(17\, 85\, 204)\;" target="_blank">Listening to Grief</a>&nbsp\;hosts a monthly grief circle where we talk about all the things we&rsquo\;re collectively grieving and the personal grief we all carry. You&rsquo\;ll find community and a brave space to share your grief and worries.</div>\n\n<div>\n<p>Any type of grief is welcome\, from major life transitions\, to pet loss\, to grieving the climate crisis or current political circumstances. Anticipatory grief\, both for loved ones and for ourselves and planet\, is also welcome. The doors are open to everyone feeling grief in these troubling times.</p>\n</div>\n\n<div>Please register and learn more at&nbsp\;<a href="https://www.listeningtogrief.com/events/grief-circle" style="color: rgb(17\, 85\, 204)\;" target="_blank">https://www.listeningtogrief.com/events/grief-circle</a>&nbsp\;</div>\n\n<div>&nbsp\;</div>\n\n<div>Use code WSCHAMBER to receive $6 off your first circle.</div>\n\n<div>&nbsp\;</div>\n
LOCATION:Nurture Wellbeing\, Studio 102 6307 California Avenue Southwest Seattle\, WA\, 98136
UID:e.1229.12336
SEQUENCE:3
DTSTAMP:20260421T211232Z
URL:https://westseattle.wschamber.com/events/details/any-grief-grief-circle-12336
END:VEVENT

END:VCALENDAR
