BEGIN:VCALENDAR
VERSION:2.0
PRODID:-//ChamberMaster//Event Calendar 2.0//EN
METHOD:PUBLISH
X-PUBLISHED-TTL:P3D
REFRESH-INTERVAL:P3D
CALSCALE:GREGORIAN
BEGIN:VEVENT
DTSTART:20221018T233000Z
DTEND:20221019T003000Z
X-MICROSOFT-CDO-ALLDAYEVENT:FALSE
SUMMARY:WSCC Community Connections Meeting
DESCRIPTION:
X-ALT-DESC;FMTTYPE=text/html:
LOCATION:Location Changes Monthly - We visit different venues in varying neighborhoods.
UID:e.1229.3874
SEQUENCE:3
DTSTAMP:20260420T073731Z
URL:https://westseattle.wschamber.com/events/details/community-connections-meeting-10-18-2022-3874
END:VEVENT

END:VCALENDAR
