BEGIN:VCALENDAR
VERSION:2.0
PRODID:-//ChamberMaster//Event Calendar 2.0//EN
METHOD:PUBLISH
X-PUBLISHED-TTL:P3D
REFRESH-INTERVAL:P3D
CALSCALE:GREGORIAN
BEGIN:VEVENT
DTSTART:20210401T010000Z
DTEND:20210401T020000Z
X-MICROSOFT-CDO-ALLDAYEVENT:FALSE
SUMMARY:Grief Counseling
DESCRIPTION:For those experiencing the loss of a loved one -- Danielle Dibba has over 20 years in social services. For more than 16 years\, she has been a hospice social worker\, serving terminally ill patients. Currently\, she is a grief support counselor and assists people during their bereavement process. She will share with you how working with people in the last stages of their life\, as well as with families after a death\, has changed her mindset and approach to living with more happiness\, clarity and purpose.
X-ALT-DESC;FMTTYPE=text/html:<br />\n<span style="font-size:16px\;">For those experiencing the loss of a loved one -- Danielle Dibba has over 20 years in social services. For more than 16 years\, she has been a hospice social worker\, serving terminally ill patients. Currently\, she is a grief support counselor and assists people during their bereavement process. She will share with you how working with people in the last stages of their life\, as well as with families after a death\, has changed her mindset and approach to living with more happiness\, clarity and purpose.</span>
LOCATION:Free Virtual Webinar
UID:e.1229.3211
SEQUENCE:3
DTSTAMP:20260423T040405Z
URL:https://westseattle.wschamber.com/events/details/grief-counseling-3211
END:VEVENT

END:VCALENDAR
