BEGIN:VCALENDAR
VERSION:2.0
PRODID:-//ChamberMaster//Event Calendar 2.0//EN
METHOD:PUBLISH
X-PUBLISHED-TTL:P3D
REFRESH-INTERVAL:P3D
CALSCALE:GREGORIAN
BEGIN:VEVENT
DTSTART:20210128T220000Z
DTEND:20210128T233000Z
X-MICROSOFT-CDO-ALLDAYEVENT:FALSE
SUMMARY:How to Speak Alzheimer's
DESCRIPTION:Judy Wadsworth will share some tips and techniques to successfully communicate with those living with dementia. As dementia takes hold\, great communication is still possible\, but new tools and new philosophy become a necessary piece of the puzzle.\n\n\n\nJudy has 20+ years of both personal and professional experience in supporting people who have a dementia diagnosis\, and combined with her delightful warmth and candor\, this promises to be a lively and deeply useful conversation. We hope you will join us. Kindly RSVP: http://bit.ly/MadisonDementia
X-ALT-DESC;FMTTYPE=text/html:<br />\n<span style="font-family:system-ui\,-apple-system\,blinkmacsystemfont\,helveticaneue\,helvetica neue\,helvetica\,roboto\,segoe ui\,arial\,sans-serif\; font-size:15px">Judy Wadsworth will share some tips and techniques to successfully communicate with those living with dementia. As dementia takes hold\, great communication is still possible\, but new tools and new philosophy become a necessary piece of the puzzle.<br />\n<br />\nJudy has 20+ years of both personal and professional experience in supporting people who have a dementia diagnosis\, and combined with her delightful warmth and candor\, this promises to be a lively and deeply useful conversation. We hope you will join us. Kindly RSVP: </span><a href="http://bit.ly/MadisonDementia" rel="noopener noreferrer" style="box-sizing: border-box\; color: rgb(0\, 123\, 153)\; text-decoration-line: none\; -webkit-font-smoothing: antialiased\; font-family: system-ui\, -apple-system\, BlinkMacSystemFont\, HelveticaNeue\, &quot\;Helvetica Neue&quot\;\, Helvetica\, Roboto\, &quot\;Segoe UI&quot\;\, Arial\, sans-serif\; font-size: 15px\; letter-spacing: -0.32px\; white-space: pre-wrap\;" target="_blank">http://bit.ly/MadisonDementia</a>
LOCATION:Free Virtual Webinar - RSVP: http://bit.ly/MadisonDementia2021
UID:e.1229.3161
SEQUENCE:3
DTSTAMP:20260423T140520Z
URL:https://westseattle.wschamber.com/events/details/how-to-speak-alzheimer-s-3161
END:VEVENT

END:VCALENDAR
