BEGIN:VCALENDAR
VERSION:2.0
PRODID:-//ChamberMaster//Event Calendar 2.0//EN
METHOD:PUBLISH
X-PUBLISHED-TTL:P3D
REFRESH-INTERVAL:P3D
CALSCALE:GREGORIAN
BEGIN:VEVENT
DTSTART;VALUE=DATE:20140914
DTEND;VALUE=DATE:20140915
TRANSP:TRANSPARENT
X-MICROSOFT-CDO-ALLDAYEVENT:TRUE
SUMMARY:M Event 2014 - AAA invites WSCC to Join Ride Around The Sound
DESCRIPTION:AAA Washington is proud to announce that we are the presenting sponsor of the American Lung Association Ride Around the Sound this year. This event features three scenic routes between Seattle and Bremerton that range from 38 to 92 miles\, making it perfect for both beginning bikers and experienced cyclists.\n\n			 \n\n			Your AAA West Seattle store employees invite all West Seattle Chamber members to join us in supporting this great organization\, either by riding in the event itself or pledging your support for a rider. All AAA members get a 20% discount off the registration fee. In addition\, we'd like to throw down a friendly challenge to our fellow Chamber members to put together a team and ride with us!  There are also opportunities to help promote the event by placing a poster in your window or linking to the ALA Ride Around the Sound website: www.ridearoundthesound.org.\n\n			 \n\n			Let's help the ALA have a record fundraising year so they can continue to improve the health and wellbeing of our community.
X-ALT-DESC;FMTTYPE=text/html:<table border="1" cellpadding="1" cellspacing="1" style="width: 400px\;">\n	<tbody>\n		<tr>\n			<td style="background-color: rgb(204\, 0\, 0)\;"><strong><span style="color: white\;"><span style="font-size: medium\;"><span style="font-family: calibri\;">AAA Washington is proud to announce that we are the presenting sponsor of the American Lung Association Ride Around the Sound this year. This event features three scenic routes between Seattle and Bremerton that range from 38 to 92 miles\, making it perfect for both beginning bikers and experienced cyclists.</span></span></span></strong><br />\n			&nbsp\;<br />\n			<strong><span style="color: white\;"><span style="font-size: medium\;"><span style="font-family: calibri\;">Your AAA West Seattle store employees invite all West Seattle Chamber members to join us in supporting this great organization\, either by riding in the event itself or pledging your support for a rider. All AAA members get a 20% discount off the registration fee. In addition\, we&#39\;d like to throw down a friendly challenge to our fellow Chamber members to put together a team and ride with us!&nbsp\; There are also opportunities to help promote the event by placing a poster in your window or linking to the ALA Ride Around the Sound website: </span></span></span></strong><a href="http://www.ridearoundthesound.org/"><strong><span style="color: white\;"><span style="font-size: medium\;"><span style="font-family: calibri\;">www.ridearoundthesound.org.</span></span></span></strong></a><br />\n			&nbsp\;<br />\n			<span style="font-size: medium\;"><span style="font-family: calibri\;"><strong><span style="color: white\;">Let&#39\;s help the ALA have a record fundraising year so they can continue to improve the health and wellbeing of our community.</span></strong></span></span><br />\n			&nbsp\;</td>\n			<td>&nbsp\;</td>\n		</tr>\n		<tr>\n			<td>&nbsp\;</td>\n			<td>&nbsp\;</td>\n		</tr>\n	</tbody>\n</table>\n
LOCATION:
UID:e.1229.1113
SEQUENCE:3
DTSTAMP:20260422T054725Z
URL:https://westseattle.wschamber.com/events/details/m-event-2014-aaa-invites-wscc-to-join-ride-around-the-sound-09-14-2014-1113
END:VEVENT

END:VCALENDAR
