BEGIN:VCALENDAR
VERSION:2.0
PRODID:-//ChamberMaster//Event Calendar 2.0//EN
METHOD:PUBLISH
X-PUBLISHED-TTL:P3D
REFRESH-INTERVAL:P3D
CALSCALE:GREGORIAN
BEGIN:VEVENT
DTSTART:20140517T013000Z
DTEND:20140517T040000Z
X-MICROSOFT-CDO-ALLDAYEVENT:FALSE
SUMMARY:M Event 2014 - BINGO at Seattle Lutheran High School
DESCRIPTION:Join us for an evening of BINGO and support SLHS athletes. \n\n \n\nEach ticket buys 11 games of bingo. Additional bingo cards may be purchased for $2. each.\n\n \n\nWinners receive prize baskets valued at $100. Admission includes food and beverages\; beer & wine may be purchased. \n\n \n\nWe will have a 50/50 raffle\, giving you a chance to take home a cash prize. \n\n \n\nFriday\, May 16\, 6:30 9:30pm\n\n\n\nTickets $25 each\, this event is for people 21 and older only\n\n\n\nSLHS Gymnasium\, 4100 SW Genesee Street\, Seattle\, 98116\n\n\n\nFor more information contact David Sleighter at 206.937.7722 or dsleighter@seattlelutheran.org
X-ALT-DESC;FMTTYPE=text/html:<br />\n<span style="font-size: 20px\;"><span><span style="font-family: berlin sans fb\;">Join us for an evening of BINGO and support SLHS athletes. </span></span><br />\n&nbsp\;<br />\n<span><span style="font-family: berlin sans fb\;">Each ticket buys 11 games of bingo. Additional bingo cards may be purchased for $2. each.</span></span><br />\n&nbsp\;<br />\n<span><span style="font-family: berlin sans fb\;">Winners receive prize baskets valued at $100. Admission includes food and beverages\; beer &amp\; wine may be purchased. </span></span><br />\n&nbsp\;<br />\n<span><span style="font-family: berlin sans fb\;">We will have a 50/50 raffle\, giving you a chance to take home a cash prize. </span></span><br />\n&nbsp\;<br />\n<span><span style="font-family: berlin sans fb\;">Friday\, May 16\, 6:30&mdash\;9:30pm</span></span><br />\n<br />\n<span><span style="font-family: berlin sans fb\;">Tickets $25 each\, this event is for people 21 and older only</span></span><br />\n<br />\n<span><span style="font-family: berlin sans fb\;">SLHS Gymnasium\, 4100 SW Genesee Street\, Seattle\, 98116</span></span><br />\n<br />\n<span><span style="font-family: berlin sans fb\;">For more information contact David Sleighter at </span></span><span><span style="font-family: berlin sans fb\;">206.937.7722 or dsleighter@seattlelutheran.org</span></span></span><br />\n&nbsp\;
LOCATION:SLHS Gym 4100 SW Genesee Street
UID:e.1229.1058
SEQUENCE:3
DTSTAMP:20260422T113000Z
URL:https://westseattle.wschamber.com/events/details/m-event-2014-bingo-at-seattle-lutheran-high-school-05-16-2014-1058
END:VEVENT

END:VCALENDAR
