BEGIN:VCALENDAR
VERSION:2.0
PRODID:-//ChamberMaster//Event Calendar 2.0//EN
METHOD:PUBLISH
X-PUBLISHED-TTL:P3D
REFRESH-INTERVAL:P3D
CALSCALE:GREGORIAN
BEGIN:VEVENT
DTSTART:20141206T180000Z
DTEND:20141206T230000Z
X-MICROSOFT-CDO-ALLDAYEVENT:FALSE
SUMMARY:M Event 2014 - Holiday Bazaar at Seattle Lutheran High School
DESCRIPTION:We look forward to the Annual Holiday Bazaar on Saturday\, December 6\, 2014\, 10:00 am   3:00 pm at Seattle Lutheran High School.\n\nSponsored by the SLHS Parent Association\, the Holiday Bazaar includes local vendors of many different things including fudge\, jewelry\, jams and preserves\, handmade clothing\, knit and crochet items\, cards\, artwork and lunch service to name but a few. \n\nSave the date: Saturday\, December 6\, 2014\, 10:00 am   3:00 pm \n\nIf you or your friends make crafts or have other goodies to sell\, this event is for you! To register as a vendor\, register here.
X-ALT-DESC;FMTTYPE=text/html:<section class="entry fix">\n<p><span class="userContent">We look forward to the Annual Holiday Bazaar on <span class="userContent"><span class="text_exposed_show">Saturday\, December 6\, 2014\, 10:00 am &ndash\; 3:00 pm at Seattle Lutheran High School.</span></span><br />\nSponsored by the SLHS Parent Association\, the Holiday Bazaar includes local vendors of many diffe<span class="text_exposed_show">rent things including fudge\, jewelry\, jams and preserves\, handmade clothing\, knit and crochet items\, cards\, artwork and lunch service to name but a few. </span></span></p>\n\n<p><span class="userContent"><span class="text_exposed_show">Save the date: Saturday\, December 6\, 2014\, 10:00 am &ndash\; 3:00 pm </span></span></p>\n\n<p><span class="userContent"><span class="text_exposed_show"><span class="userContent">If you or your friends make crafts or have other goodies to sell\, this event is for you! </span>To register as a vendor\, <a href="https://www.seattlelutheran.org/secure/bazaar-registration/">register here</a>. </span></span></p>\n</section>\n
LOCATION:Seattle Lutheran High School\, 4100 SW Genesee Street\, Seattle 98116
UID:e.1229.1140
SEQUENCE:3
DTSTAMP:20260422T011645Z
URL:https://westseattle.wschamber.com/events/details/m-event-2014-holiday-bazaar-at-seattle-lutheran-high-school-12-06-2014-1140
END:VEVENT

END:VCALENDAR
