BEGIN:VCALENDAR
VERSION:2.0
PRODID:-//ChamberMaster//Event Calendar 2.0//EN
METHOD:PUBLISH
X-PUBLISHED-TTL:P3D
REFRESH-INTERVAL:P3D
CALSCALE:GREGORIAN
BEGIN:VEVENT
DTSTART:20140406T213000Z
DTEND:20140406T230000Z
X-MICROSOFT-CDO-ALLDAYEVENT:FALSE
SUMMARY:M Event 2014 - Midsummer/Jersey staged at Seattle Lutheran High School
DESCRIPTION:Ken Ludwig's Midsummer/Jersey Press Release Info\n\n \n\nSeattle Lutheran High School drama is proud to present Ken Ludwig's Midsummer/Jersey as its spring production\, which is a hilarious update of Shakespeare's A Midsummer Night's Dream to the Jersey Shore.  All story elements remain the same: young lovers want to get married\, the fairy royalty are fighting\, some silly actors are putting on a sillier play\, and Puck is making trouble.  Come and support our talented student actors.\n\n \n\nPerformances will be held in the Menashe Gymnasium Friday\, April 4th at 7:30pm and Sunday\, April 6th at 2:30pm.  Tickets are $5 for adults\, $2 for kids 7-14\, and can be purchased at the door.  Children under 7 are free and SLHS students and staff are free with ID.\n\n \n\n"Midsummer/Jersey" is presented by special arrangement with SAMUEL FRENCH\, INC.
X-ALT-DESC;FMTTYPE=text/html:<strong><em><span style="font-size: 11pt\;">Ken Ludwig&rsquo\;s Midsummer/Jersey</span></em></strong><strong><span style="font-size: 11pt\;"> Press Release Info</span></strong><br />\n&nbsp\;<br />\n<span style="font-size: 11pt\;">Seattle Lutheran High School drama is proud to present <em>Ken Ludwig&rsquo\;s Midsummer/Jersey</em> as its spring production\, which is a hilarious update of Shakespeare&rsquo\;s <em>A Midsummer Night&rsquo\;s Dream</em> to the Jersey Shore.&nbsp\; All story elements remain the same: young lovers want to get married\, the fairy royalty are fighting\, some silly actors are putting on a sillier play\, and Puck is making trouble.&nbsp\; Come and support our talented student actors.</span><br />\n&nbsp\;<br />\n<span style="font-size: 11pt\;">Performances will be held in the Menashe Gymnasium Friday\, April 4<sup>th</sup> at 7:30pm and Sunday\, April 6<sup>th</sup> at 2:30pm.&nbsp\; Tickets are $5 for adults\, $2 for kids 7-14\, and can be purchased at the door.&nbsp\; Children under 7 are free and SLHS students and staff are free with ID.</span><br />\n&nbsp\;<br />\n&ldquo\;Midsummer/Jersey&rdquo\; is presented by special arrangement with SAMUEL FRENCH\, INC.
LOCATION:SLHS Gymnasium 4100 SW Genesee Street
UID:e.1229.1060
SEQUENCE:3
DTSTAMP:20260422T123315Z
URL:https://westseattle.wschamber.com/events/details/m-event-2014-midsummer-jersey-staged-at-seattle-lutheran-high-school-04-06-2014-1060
END:VEVENT

END:VCALENDAR
