BEGIN:VCALENDAR
VERSION:2.0
PRODID:-//ChamberMaster//Event Calendar 2.0//EN
METHOD:PUBLISH
X-PUBLISHED-TTL:P3D
REFRESH-INTERVAL:P3D
CALSCALE:GREGORIAN
BEGIN:VEVENT
DTSTART:20141024T020000Z
DTEND:20141024T033000Z
X-MICROSOFT-CDO-ALLDAYEVENT:FALSE
SUMMARY:M Event 2014 - Open House at Seattle Lutheran High School
DESCRIPTION:If you or friends are looking at high schools for your students\, plan to visit SLHS Thursday\, October 23\, 7:00   8:30 pm. Meet our talented teachers and students and learn how we engender Confidence\, Hope\, Integrity and Passion in our students.\n\nWe look forward to seeing you there!
X-ALT-DESC;FMTTYPE=text/html:<section class="entry fix">\n<p>If you or friends are looking at high schools for your students\, plan to visit SLHS Thursday\, October 23\, 7:00 &ndash\; 8:30 pm. Meet our talented teachers and students and learn how we engender Confidence\, Hope\, Integrity and Passion in our students.</p>\n\n<p>We look forward to seeing you there!</p>\n</section>\n
LOCATION:4100 SW Genesee Street\, Seattle 98116
UID:e.1229.1139
SEQUENCE:3
DTSTAMP:20260422T040945Z
URL:https://westseattle.wschamber.com/events/details/m-event-2014-open-house-at-seattle-lutheran-high-school-10-23-2014-1139
END:VEVENT

END:VCALENDAR
