BEGIN:VCALENDAR
VERSION:2.0
PRODID:-//ChamberMaster//Event Calendar 2.0//EN
METHOD:PUBLISH
X-PUBLISHED-TTL:P3D
REFRESH-INTERVAL:P3D
CALSCALE:GREGORIAN
BEGIN:VEVENT
DTSTART:20140411T010000Z
DTEND:20140411T040000Z
X-MICROSOFT-CDO-ALLDAYEVENT:FALSE
SUMMARY:M Event 2014 - Party Office Junction
DESCRIPTION:The Office Junction has moved to the Morgan Junction and we are having a party to celebrate!\n\n\n\nOur new location offers more space to grow\, more amenities for our members\, a more professional environment and more fun for everyone.\n\nFor those who don't know us\; the Office Junction is a coworking space.  We provide flexible\, affordable\, furnished office space to independent and socially minded workers\, entrepreneurs and small business owners who prefer to work around other people.  We offer a variety of month to month membership rates starting as low as $100 per month.  What you get: A desk (by the day or your very own)\, secure high speed internet\, unlimited use of the printer/copier/scanner/fax\, other humans!\, conference room\, phone booth for private calls\, and a shared kitchen with free coffee\, tea and snacks.\n\nJoin us for the party or email us to schedule a free trial day and find out if coworking is right for you!\n\n\n\nwsoffficejunciton@gmail.com\n\nwww.wsoffficejunction.com
X-ALT-DESC;FMTTYPE=text/html:<strong>The Office Junction has moved to the Morgan Junction and we are having a party to celebrate!</strong><br />\n<br />\nOur new location offers more space to grow\, more amenities for our members\, a more professional environment and more fun for everyone.<br />\nFor those who don&rsquo\;t know us\; the Office Junction is a coworking space.&nbsp\; We provide flexible\, affordable\, furnished office space to independent and socially minded workers\, entrepreneurs and small business owners who prefer to work around other people.&nbsp\; We offer a variety of month to month membership rates starting as low as $100 per month.&nbsp\; What you get: A desk (by the day or your very own)\, secure high speed internet\, unlimited use of the printer/copier/scanner/fax\, other humans!\, conference room\, phone booth for private calls\, and a shared kitchen with free coffee\, tea and snacks.<br />\nJoin us for the party or email us to schedule a free trial day and find out if coworking is right for you!<br />\n<br />\n<a href="mailto:wsoffficejunciton@gmail.com">wsoffficejunciton@gmail.com</a><br />\n<a href="http://www.wsoffficejunction.com">www.wsoffficejunction.com</a>
LOCATION:6040 California Avenue SW
UID:e.1229.1061
SEQUENCE:3
DTSTAMP:20260422T123311Z
URL:https://westseattle.wschamber.com/events/details/m-event-2014-party-office-junction-04-10-2014-1061
END:VEVENT

END:VCALENDAR
