BEGIN:VCALENDAR
VERSION:2.0
PRODID:-//ChamberMaster//Event Calendar 2.0//EN
METHOD:PUBLISH
X-PUBLISHED-TTL:P3D
REFRESH-INTERVAL:P3D
CALSCALE:GREGORIAN
BEGIN:VEVENT
DTSTART:20140228T200000Z
DTEND:20140301T040000Z
X-MICROSOFT-CDO-ALLDAYEVENT:FALSE
SUMMARY:M Event 2014 - PC Mobile Help Event
DESCRIPTION:Customer Appreciation Day\n\nStop by for refreshments\, appetizers and fun!\n\nDrawings\, prizes\, and socializing.
X-ALT-DESC;FMTTYPE=text/html:Customer Appreciation Day<br />\nStop by for refreshments\, appetizers and fun!<br />\nDrawings\, prizes\, and socializing.<br />\n&nbsp\;
LOCATION:5631 California Ave SW
UID:e.1229.1050
SEQUENCE:3
DTSTAMP:20260422T145424Z
URL:https://westseattle.wschamber.com/events/details/m-event-2014-pc-mobile-help-event-02-28-2014-1050
END:VEVENT

END:VCALENDAR
