BEGIN:VCALENDAR
VERSION:2.0
PRODID:-//ChamberMaster//Event Calendar 2.0//EN
METHOD:PUBLISH
X-PUBLISHED-TTL:P3D
REFRESH-INTERVAL:P3D
CALSCALE:GREGORIAN
BEGIN:VEVENT
DTSTART:20141115T033000Z
DTEND:20141115T051500Z
X-MICROSOFT-CDO-ALLDAYEVENT:FALSE
SUMMARY:M Event 2014 - Play - The Curious Savage - at Seattle Lutheran High School
DESCRIPTION:Seattle Lutheran High School Drama Presents\n\nThe Curious Savage\n\nBy John Patrick\n\n \n\nFriday\, November 14th\, 7:30pm\n\nSunday\, November 16th\, 2:30pm\n\n \n\nTickets: $5 adults/ $2 children age 7-14/ free for children 6 and under\n\n \n\n \n\nTHE CURIOUS SAVAGE is presented by special arrangement with Dramatists Play Service\, Inc.\, New York.
X-ALT-DESC;FMTTYPE=text/html:Seattle Lutheran High School Drama Presents<br />\n<span style="font-size: 14px\;">The Curious Savage</span><br />\nBy John Patrick<br />\n&nbsp\;<br />\nFriday\, November 14<sup>th</sup>\, 7:30pm<br />\nSunday\, November 16<sup>th</sup>\, 2:30pm<br />\n&nbsp\;<br />\nTickets: $5 adults/ $2 children age 7-14/ free for children 6 and under<br />\n&nbsp\;<br />\n&nbsp\;<br />\nTHE CURIOUS SAVAGE is presented by special arrangement with Dramatists Play Service\, Inc.\, New York.<br />\n&nbsp\;
LOCATION:Seattle Lutheran High School Gymnasium 4100 SW Genesee St. Seattle WA 98116
UID:e.1229.1141
SEQUENCE:3
DTSTAMP:20260422T025110Z
URL:https://westseattle.wschamber.com/events/details/m-event-2014-play-the-curious-savage-at-seattle-lutheran-high-school-11-14-2014-1141
END:VEVENT

END:VCALENDAR
