BEGIN:VCALENDAR
VERSION:2.0
PRODID:-//ChamberMaster//Event Calendar 2.0//EN
METHOD:PUBLISH
X-PUBLISHED-TTL:P3D
REFRESH-INTERVAL:P3D
CALSCALE:GREGORIAN
BEGIN:VEVENT
DTSTART:20141026T000000Z
DTEND:20141026T040000Z
X-MICROSOFT-CDO-ALLDAYEVENT:FALSE
SUMMARY:M Event 2014 - Soaring Dragon Celebration and Benefit Dinner
DESCRIPTION:Please join us for a festive evening to celebrate and support the Seattle Chinese Garden\n\n\n\n$125 per person\n\n$1\,250 Nonprofit Organization or\n\nFriends of the Garden Table\n\n$1\,500 Corporate Patron Table\n\n\n\nKindly RSVP by October 17.\n\n\n\nTo Register:\n\n\n\nOnline: www.seattlechinesegarden.org\n\nPhone: 206.934.5219\n\nBy Mail:  Download a registration form at www.seattlechinesegarden.org\n\nand mail with your check.\n\n\n\nFor questions 206.934.5219 or info@seattlechinesegarden.org
X-ALT-DESC;FMTTYPE=text/html:Please join us for a festive evening to celebrate and support the Seattle Chinese Garden<br />\n<br />\n$125 per person<br />\n$1\,250 Nonprofit Organization or<br />\nFriends of the Garden Table<br />\n$1\,500 Corporate Patron Table<br />\n<br />\nKindly RSVP by October 17.<br />\n<br />\n<strong>To Register:</strong><br />\n<br />\n<strong>Online</strong>: <a href="http://www.seattlechinesegarden.org">www.seattlechinesegarden.org</a><br />\n<strong>Phone:</strong> 206.934.5219<br />\n<strong>By Mail:&nbsp\;</strong> Download a registration form at <a href="http://www.seattlechinesegarden.org">www.seattlechinesegarden.org</a><br />\nand mail with your check.<br />\n<br />\nFor questions 206.934.5219 or <a href="mailto:info@seattlechinesegarden.org">info@seattlechinesegarden.org</a><br />\n<br />\n<br />\n&nbsp\;
LOCATION:The Brockey Center at South Seattle College (South Entrance) 6000 16th Avenue SW Seattle\, WA 98106
UID:e.1229.1129
SEQUENCE:3
DTSTAMP:20260422T042421Z
URL:https://westseattle.wschamber.com/events/details/m-event-2014-soaring-dragon-celebration-and-benefit-dinner-10-25-2014-1129
END:VEVENT

END:VCALENDAR
