BEGIN:VCALENDAR
VERSION:2.0
PRODID:-//ChamberMaster//Event Calendar 2.0//EN
METHOD:PUBLISH
X-PUBLISHED-TTL:P3D
REFRESH-INTERVAL:P3D
CALSCALE:GREGORIAN
BEGIN:VEVENT
DTSTART:20140720T170000Z
DTEND:20140720T210000Z
X-MICROSOFT-CDO-ALLDAYEVENT:FALSE
SUMMARY:M Event 2014 - Stuff the Bus for WestSide Baby
DESCRIPTION:Get ready to join WestSide Baby for their 14th-annual Stuff the Bus diaper drive Sunday\, July 20th! Stuff the Bus is our largest outreach event of the year\, and in 2014 it's bigger than ever! Our goal is to collect 290\,000 diapers for local kids in need. Why diapers? Diapers are expensive and aren't covered by any assistance program. A baby who sits in the same diaper all day is more vulnerable to diaper rash\, infection and abuse. Help us keep these little bottoms dry.
X-ALT-DESC;FMTTYPE=text/html:Get ready to join WestSide Baby for their 14th-annual Stuff the Bus diaper drive Sunday\, July 20th! Stuff the Bus is our largest outreach event of the year\, and in 2014 it&#39\;s bigger than ever! Our goal is to collect 290\,000 diapers for local kids in need. Why diapers? Diapers are expensive and aren&#39\;t covered by any assistance program. A baby who sits in the same diaper all day is more vulnerable to diaper rash\, infection and abuse. Help us keep these little bottoms dry.
LOCATION:HomeStreet Bank 4022 SW Alaska Street\, Seattle 98116
UID:e.1229.1111
SEQUENCE:3
DTSTAMP:20260422T082616Z
URL:https://westseattle.wschamber.com/events/details/m-event-2014-stuff-the-bus-for-westside-baby-07-20-2014-1111
END:VEVENT

END:VCALENDAR
