BEGIN:VCALENDAR
VERSION:2.0
PRODID:-//ChamberMaster//Event Calendar 2.0//EN
METHOD:PUBLISH
X-PUBLISHED-TTL:P3D
REFRESH-INTERVAL:P3D
CALSCALE:GREGORIAN
BEGIN:VEVENT
DTSTART:20141029T013000Z
DTEND:20141029T033000Z
X-MICROSOFT-CDO-ALLDAYEVENT:FALSE
SUMMARY:M Event 2014 - West Seattle Education Fair
DESCRIPTION:Come meet representatives from preschools\, elementary and middle schools in and around West Seattle.\n\n\n\nLearn about your student's educational opportunities Pre-K - 8th grade in West Seattle.\n\n\n\nSponsored by SLHS and the West Seattle Blog\, this event is free for parents.
X-ALT-DESC;FMTTYPE=text/html:Come meet representatives from preschools\, elementary and middle schools in and around West Seattle.<br />\n<br />\nLearn about your student&#39\;s educational opportunities Pre-K - 8th grade in West Seattle.<br />\n<br />\nSponsored by SLHS and the West Seattle Blog\, this event is free for parents.
LOCATION:Seattle Lutheran High School 4100 SW Genesee Street Seattle\, WA 98116
UID:e.1229.1138
SEQUENCE:3
DTSTAMP:20260422T040725Z
URL:https://westseattle.wschamber.com/events/details/m-event-2014-west-seattle-education-fair-10-28-2014-1138
END:VEVENT

END:VCALENDAR
