BEGIN:VCALENDAR
VERSION:2.0
PRODID:-//ChamberMaster//Event Calendar 2.0//EN
METHOD:PUBLISH
X-PUBLISHED-TTL:P3D
REFRESH-INTERVAL:P3D
CALSCALE:GREGORIAN
BEGIN:VEVENT
DTSTART:20141115T023000Z
DTEND:20141115T053000Z
X-MICROSOFT-CDO-ALLDAYEVENT:FALSE
SUMMARY:M Event 2014 - West Seattle Helpline's Fall Fundraiser Dinner and Auction
DESCRIPTION:Join us for an evening of Neighbors Helping Neighbors. For more than 25 years\, the West Seattle Helpline has assisted the working poor in West Seattle by providing one-time financial assistance to those facing an emergency need due to unemployment\, health crisis\, or time of transition. The Helpline also refers those in needto other community resources that may assist in getting them back on their feet. Last year the West Seattle Helpline provided support to over 3\,500 of our neighbors. Despite these efforts\, we must turn away families every month and the need continues to rise.
X-ALT-DESC;FMTTYPE=text/html:Join us for an evening of Neighbors Helping Neighbors. For more than 25 years\, the West Seattle Helpline has assisted the working poor in West Seattle by providing one-time financial assistance to those facing an emergency need due to unemployment\, health crisis\, or time of transition. The Helpline also refers those in needto other community resources that may assist in getting them back on their feet. Last year the West Seattle Helpline provided support to over 3\,500 of our neighbors. Despite these efforts\, we must turn away families every month and the need continues to rise.
LOCATION:Duwamish Longhouse
UID:e.1229.1142
SEQUENCE:3
DTSTAMP:20260422T024714Z
URL:https://westseattle.wschamber.com/events/details/m-event-2014-west-seattle-helpline-s-fall-fundraiser-dinner-and-auction-11-14-2014-1142
END:VEVENT

END:VCALENDAR
