BEGIN:VCALENDAR
VERSION:2.0
PRODID:-//ChamberMaster//Event Calendar 2.0//EN
METHOD:PUBLISH
X-PUBLISHED-TTL:P3D
REFRESH-INTERVAL:P3D
CALSCALE:GREGORIAN
BEGIN:VEVENT
DTSTART:20141025T160000Z
DTEND:20141025T173000Z
X-MICROSOFT-CDO-ALLDAYEVENT:FALSE
SUMMARY:M Event 2014 - West Seattle Monster Dash
DESCRIPTION:South Seattle College Cooperative Preschools would like to invite the community to our 3rd Annual Monster Dash 5K Run/Walk and Little Monsters? Dash at Lincoln Park on Saturday\, October 25th. The 5K begins at 9 AM\, the Kids Dash starts at 10 AM\, and the Costume Contest and Race Awards Ceremony begins at 10:30 AM. Be sure to dress up! This year we are extending an offer to youth runners participating in the Seattle Kids Marathon. Program details and race registration can be found at http://westseattlemonsterdash.blogspot.com \, on active.com\, or ?like? West Seattle Monster Dash on Facebook! The proceeds from the Monster Dash benefit West Seattle?s own South Seattle College Cooperative Preschools. Coop includes teachers\, children\, and their caregivers in a way that provides an education for the children\, a resource and support system for families\, and a community where all can thrive. We have five neighborhood locations with many openings this fall: Alki\, Admiral\, Lincoln Park\, Arbor Heights\, and at the South Seattle College Campus. For more information on South Seattle College Cooperative Preschools\, contact Judy Hall at 206-938-2278 or jkatalki@aol.com Visit our web site: http://sites.southseattle.edu/homelife/
X-ALT-DESC;FMTTYPE=text/html:South Seattle College Cooperative Preschools would like to invite the community to our 3rd Annual Monster Dash 5K Run/Walk and Little Monsters? Dash at Lincoln Park on Saturday\, October 25th. The 5K begins at 9 AM\, the Kids Dash starts at 10 AM\, and the Costume Contest and Race Awards Ceremony begins at 10:30 AM. Be sure to dress up! This year we are extending an offer to youth runners participating in the Seattle Kids Marathon. Program details and race registration can be found at http://westseattlemonsterdash.blogspot.com \, on active.com\, or ?like? West Seattle Monster Dash on Facebook! The proceeds from the Monster Dash benefit West Seattle?s own South Seattle College Cooperative Preschools. Coop includes teachers\, children\, and their caregivers in a way that provides an education for the children\, a resource and support system for families\, and a community where all can thrive. We have five neighborhood locations with many openings this fall: Alki\, Admiral\, Lincoln Park\, Arbor Heights\, and at the South Seattle College Campus. For more information on South Seattle College Cooperative Preschools\, contact Judy Hall at 206-938-2278 or jkatalki@aol.com Visit our web site: http://sites.southseattle.edu/homelife/
LOCATION:Lincoln Park
UID:e.1229.1115
SEQUENCE:3
DTSTAMP:20260422T040557Z
URL:https://westseattle.wschamber.com/events/details/m-event-2014-west-seattle-monster-dash-10-25-2014-1115
END:VEVENT

END:VCALENDAR
