BEGIN:VCALENDAR
VERSION:2.0
PRODID:-//ChamberMaster//Event Calendar 2.0//EN
METHOD:PUBLISH
X-PUBLISHED-TTL:P3D
REFRESH-INTERVAL:P3D
CALSCALE:GREGORIAN
BEGIN:VEVENT
DTSTART:20140607T020000Z
DTEND:20140607T040000Z
X-MICROSOFT-CDO-ALLDAYEVENT:FALSE
SUMMARY:M Event 2014 - Women Wine & Wellnes
DESCRIPTION:Join us for our Fourth Annual Women\, Wine & Wellness Event! This FREE to the public event for Women only- is on Friday\, June 6\,2014 from 7:00 p.m.-10:00 p.m. There will be a variety of vendors to include: massage therapists\, hair and makeup\, nutrition\, personal training\, jewelry\, purses\, estheticians\, health screenings\, skin care\, light hor d?oeuvres as well as wine\,music and much more! There will be raffle prizes that will be given out throughout the evening\, and these are prizes you do not want to miss!
X-ALT-DESC;FMTTYPE=text/html:Join us for our Fourth Annual Women\, Wine &amp\; Wellness Event! This FREE to the public event for Women only- is on Friday\, June 6\,2014 from 7:00 p.m.-10:00 p.m. There will be a variety of vendors to include: massage therapists\, hair and makeup\, nutrition\, personal training\, jewelry\, purses\, estheticians\, health screenings\, skin care\, light hor d?oeuvres as well as wine\,music and much more! There will be raffle prizes that will be given out throughout the evening\, and these are prizes you do not want to miss!
LOCATION:Roxbury Spine & Wellness Clinic Located at 2656 SW Roxbury St. in West Seattle.
UID:e.1229.1062
SEQUENCE:3
DTSTAMP:20260424T100420Z
URL:https://westseattle.wschamber.com/events/details/m-event-2014-women-wine-wellnes-06-06-2014-1062
END:VEVENT

END:VCALENDAR
