BEGIN:VCALENDAR
VERSION:2.0
PRODID:-//ChamberMaster//Event Calendar 2.0//EN
METHOD:PUBLISH
X-PUBLISHED-TTL:P3D
REFRESH-INTERVAL:P3D
CALSCALE:GREGORIAN
BEGIN:VEVENT
DTSTART:20150326T233000Z
DTEND:20150327T010000Z
X-MICROSOFT-CDO-ALLDAYEVENT:FALSE
SUMMARY:M Event 2015 - Brookdale West Seattle Presents: Professional Cocktail Mingle
DESCRIPTION:Please Join Us for a Professional Cocktail Mingle Thursday\, March 26th from 4:30-6:00pm This is an invite to Network and have a little fun! Please enjoy complimentary food and cocktails from Brookdale at West Seattle Hosted by Brookdale at West Seattle! Stop here first\, then go the After Hours Event!
X-ALT-DESC;FMTTYPE=text/html:<br />\nPlease Join Us for a Professional Cocktail Mingle Thursday\, March 26th from 4:30-6:00pm This is an invite to Network and have a little fun! Please enjoy complimentary food and cocktails from Brookdale at West Seattle Hosted by Brookdale at West Seattle! Stop here first\, then go the&nbsp\;After Hours Event!
LOCATION:Brookdale at West Seattle 4611 35th Ave SW Seattle\, WA 98126 206-932-5480
UID:e.1229.1171
SEQUENCE:3
DTSTAMP:20260421T205703Z
URL:https://westseattle.wschamber.com/events/details/m-event-2015-brookdale-west-seattle-presents-professional-cocktail-mingle-03-26-2015-1171
END:VEVENT

END:VCALENDAR
