BEGIN:VCALENDAR
VERSION:2.0
PRODID:-//ChamberMaster//Event Calendar 2.0//EN
METHOD:PUBLISH
X-PUBLISHED-TTL:P3D
REFRESH-INTERVAL:P3D
CALSCALE:GREGORIAN
BEGIN:VEVENT
DTSTART:20250111T030000Z
DTEND:20250111T063000Z
X-MICROSOFT-CDO-ALLDAYEVENT:FALSE
SUMMARY:Movie Night!
DESCRIPTION:Welcome to our Movie Night! Every 2nd and 4th Friday of the month. Each movie night is a double feature with a theme. Beer and popcorn special. Get in\, get a good seat\, and enjoy some films and beverages!
X-ALT-DESC;FMTTYPE=text/html:Welcome to our Movie Night! Every 2nd and 4th Friday of the month. Each movie night is a double feature with a theme. Beer and popcorn special. Get in\, get a good seat\, and enjoy some films and beverages!
LOCATION:Till Dawn - 5048 California Ave SW
UID:e.1229.12320
SEQUENCE:3
DTSTAMP:20260421T170125Z
URL:https://westseattle.wschamber.com/events/details/movie-night-12320
END:VEVENT

END:VCALENDAR
