BEGIN:VCALENDAR
VERSION:2.0
PRODID:-//ChamberMaster//Event Calendar 2.0//EN
METHOD:PUBLISH
X-PUBLISHED-TTL:P3D
REFRESH-INTERVAL:P3D
CALSCALE:GREGORIAN
BEGIN:VEVENT
DTSTART:20250214T190000Z
DTEND:20250215T000000Z
X-MICROSOFT-CDO-ALLDAYEVENT:FALSE
SUMMARY:Valentines Day Market
DESCRIPTION:For todays special day we will be hosting a Valentines Day Market. Partnering with The Cutie Foundation\, we will be hosting local vendors at Till Dawn! Come grab a drink and support/shop local! If you are feeling frisky\, stay and hangout for our movie night!
X-ALT-DESC;FMTTYPE=text/html:For todays special day we will be hosting a Valentines Day Market. Partnering with The Cutie Foundation\, we will be hosting local vendors at Till Dawn! Come grab a drink and support/shop local! If you are feeling frisky\, stay and hangout for our movie night!
LOCATION:Till Dawn
UID:e.1229.12332
SEQUENCE:3
DTSTAMP:20260425T203022Z
URL:https://westseattle.wschamber.com/events/details/valentines-day-market-12332
END:VEVENT

END:VCALENDAR
